BEGIN:VCALENDAR
VERSION:2.0
PRODID:-//Club Escuela Jiu Jitsu Gaman - ECPv6.14.0//NONSGML v1.0//EN
CALSCALE:GREGORIAN
METHOD:PUBLISH
X-ORIGINAL-URL:https://clubjiujitsugaman.com
X-WR-CALDESC:Eventos para Club Escuela Jiu Jitsu Gaman
REFRESH-INTERVAL;VALUE=DURATION:PT1H
X-Robots-Tag:noindex
X-PUBLISHED-TTL:PT1H
BEGIN:VTIMEZONE
TZID:UTC
BEGIN:STANDARD
TZOFFSETFROM:+0000
TZOFFSETTO:+0000
TZNAME:UTC
DTSTART:20250101T000000
END:STANDARD
END:VTIMEZONE
BEGIN:VEVENT
DTSTART;VALUE=DATE:20251116
DTEND;VALUE=DATE:20251117
DTSTAMP:20260419T150601
CREATED:20251016T210220Z
LAST-MODIFIED:20251016T212629Z
UID:427-1763251200-1763337599@clubjiujitsugaman.com
SUMMARY:Open Nacional de Jiu-Jitsu Kyus y Cinturones Negros (Lucha\, Ne Waza\, Duos Y Show)
DESCRIPTION:
URL:https://clubjiujitsugaman.com/event/open-nacional-de-jiu-jitsu-kyus-y-cinturones-negros-lucha-ne-waza-duos-y-show/
LOCATION:Pabellón polideportivo municipal\, C. de León\, 59\, Villaviciosa de Odon\, Madrid\, 28670\, Spain
END:VEVENT
END:VCALENDAR