BEGIN:VCALENDAR
VERSION:2.0
PRODID:-//Club Escuela Jiu Jitsu Gaman - ECPv6.14.0//NONSGML v1.0//EN
CALSCALE:GREGORIAN
METHOD:PUBLISH
X-WR-CALNAME:Club Escuela Jiu Jitsu Gaman
X-ORIGINAL-URL:https://clubjiujitsugaman.com
X-WR-CALDESC:Eventos para Club Escuela Jiu Jitsu Gaman
REFRESH-INTERVAL;VALUE=DURATION:PT1H
X-Robots-Tag:noindex
X-PUBLISHED-TTL:PT1H
BEGIN:VTIMEZONE
TZID:UTC
BEGIN:STANDARD
TZOFFSETFROM:+0000
TZOFFSETTO:+0000
TZNAME:UTC
DTSTART:20250101T000000
END:STANDARD
END:VTIMEZONE
BEGIN:VEVENT
DTSTART;TZID=UTC:20251003T080000
DTEND;TZID=UTC:20251005T170000
DTSTAMP:20260419T150040
CREATED:20250720T152449Z
LAST-MODIFIED:20251113T224359Z
UID:234-1759478400-1759683600@clubjiujitsugaman.com
SUMMARY:European Championship for ADULTSD 2025 en Klapperstraat (Bélgica)
DESCRIPTION:Raúl Rodríguez firma una gran actuación en el Campeonato de Europa de Jiu Jitsu en Bélgica pese a una lesión
URL:https://clubjiujitsugaman.com/event/european-championship-for-adultsd-2025-en-klapperstraat-belgica/
END:VEVENT
END:VCALENDAR